BEGIN:VCALENDAR
VERSION:2.0
PRODID:-//Illinois Cycling Association - ECPv6.15.20//NONSGML v1.0//EN
CALSCALE:GREGORIAN
METHOD:PUBLISH
X-WR-CALNAME:Illinois Cycling Association
X-ORIGINAL-URL:https://www.illinoiscycling.org
X-WR-CALDESC:Events for Illinois Cycling Association
REFRESH-INTERVAL;VALUE=DURATION:PT1H
X-Robots-Tag:noindex
X-PUBLISHED-TTL:PT1H
BEGIN:VTIMEZONE
TZID:America/Chicago
BEGIN:DAYLIGHT
TZOFFSETFROM:-0600
TZOFFSETTO:-0500
TZNAME:CDT
DTSTART:20250309T080000
END:DAYLIGHT
BEGIN:STANDARD
TZOFFSETFROM:-0500
TZOFFSETTO:-0600
TZNAME:CST
DTSTART:20251102T070000
END:STANDARD
BEGIN:DAYLIGHT
TZOFFSETFROM:-0600
TZOFFSETTO:-0500
TZNAME:CDT
DTSTART:20260308T080000
END:DAYLIGHT
BEGIN:STANDARD
TZOFFSETFROM:-0500
TZOFFSETTO:-0600
TZNAME:CST
DTSTART:20261101T070000
END:STANDARD
BEGIN:DAYLIGHT
TZOFFSETFROM:-0600
TZOFFSETTO:-0500
TZNAME:CDT
DTSTART:20270314T080000
END:DAYLIGHT
BEGIN:STANDARD
TZOFFSETFROM:-0500
TZOFFSETTO:-0600
TZNAME:CST
DTSTART:20271107T070000
END:STANDARD
END:VTIMEZONE
BEGIN:VEVENT
DTSTART;VALUE=DATE:20260425
DTEND;VALUE=DATE:20260427
DTSTAMP:20260419T111011
CREATED:20251113T165034Z
LAST-MODIFIED:20260304T162216Z
UID:3215-1777075200-1777247999@www.illinoiscycling.org
SUMMARY:Skyway Classic Criterium Series
DESCRIPTION:Skyway is a two-day series that gives newer racers a low-cost\, low-tech\, nearby opportunity to try out criterium racing and gain valuable experience\, skills\, and confidence on safe roads in a low-pressure environment. It’s also a great way for seasoned racers to stay extra sharp between early-season races. Not to mention\, the fabulous prizes and primes that await! \nSkyway is set for April 25-26\, 2026! Keep an eye on BikeReg and social media for updates. \nNew this year\, we will be using American Bicycle Racing (ABR) as our sanctioning organization keeping in line with our team values of gender inclusive and affordable racing. All racers will need an active ABR license to race. Stay tuned for more information. \nNo USAC upgrades will be earned at this event.
URL:https://www.illinoiscycling.org/event/skyway-crit
LOCATION:Calumet Park Chicago\, IL\, United States
CATEGORIES:Crit
END:VEVENT
END:VCALENDAR